BEGIN:VCALENDAR
VERSION:2.0
PRODID:Spatie calendar-links
BEGIN:VEVENT
UID:https://2026.gut-pesterwitz.de/?post_type=mi-event-date&#038;p=6736
SUMMARY:Besenwirtschaft » geöffnet
DTSTAMP:20260910T220000Z
DTSTART;VALUE=DATE:20260911
DURATION:P3D
DESCRIPTION:Mehr Informationen: https://www.gut-pesterwitz.de/veranstaltungen/besenwirtschaft/
LOCATION:Am Hang \, 01705 Freital  OT Pesterwitz
END:VEVENT
END:VCALENDAR