BEGIN:VCALENDAR
VERSION:2.0
PRODID:Spatie calendar-links
BEGIN:VEVENT
UID:https://2026.gut-pesterwitz.de/?post_type=mi-event-date&#038;p=6737
SUMMARY:Besenwirtschaft » geöffnet » Herbst- und Weinfest Pesterwitz
DTSTAMP:20260917T220000Z
DTSTART;VALUE=DATE:20260918
DURATION:P3D
DESCRIPTION:Mehr Informationen: https://www.gut-pesterwitz.de/veranstaltungen/besenwirtschaft/
LOCATION:Am Hang \, 01705 Freital  OT Pesterwitz
END:VEVENT
END:VCALENDAR