BEGIN:VCALENDAR
VERSION:2.0
PRODID:Spatie calendar-links
BEGIN:VEVENT
UID:https://2026.gut-pesterwitz.de/?post_type=mi-event-date&#038;p=6723
SUMMARY:Schlenderweinprobe » leider bereits ausgebucht!
DTSTAMP:20260904T220000Z
DTSTART;VALUE=DATE:20260905
DURATION:P1D
DESCRIPTION:Mehr Informationen: https://www.gut-pesterwitz.de/veranstaltungen/schlenderweinprobe/
LOCATION:An der Winzerei 1b\, 01705 Freital  OT Pesterwitz
END:VEVENT
END:VCALENDAR